BEGIN:VCALENDAR
VERSION:2.0
PRODID:-//https://ischia.discovercampania.it///NONSGML kigkonsult.se iCalcreator 2.10.15//
METHOD:PUBLISH
BEGIN:VEVENT
UID:20260422T032810CEST-9239VPUJth@https://ischia.discovercampania.it/
DTSTAMP:20260422T012810Z
DESCRIPTION:Un percorso tra i vigneti di Biancolella a picco sul mare\, con
  una vista mozzafiato su Capri\, la terraferma e circondati dalla roccia v
 ulcanica biancastra\, che caratterizza quest’area dell’isola. Percorreremo
  un antico borgo semi-abbandonato\, raggingendo la cima del Monte Vezzi (4
 00m)\, da dove si potrà ammirare un panorama a 180° dal Castello Aragonese
  fino alla baia della Sgarrupata e Sant’Angelo\, con una prospettiva unica
  del Monte Epomeo. Al termine del percorso ci sarà una degustazione a Pian
 o Liguori.\n&nbsp\;\n&nbsp\;\n€ 40 a persona https://ischia.discovercampan
 ia.it/en/events/event/149236-andar-per-cantine-2025-il-sentiero-di-piano-l
 iguori
DTSTART:20250927T080000Z
DTEND:20250927T133000Z
LOCATION:Panza (Piazza San Leonardo - 80075 Panza Forio)
SUMMARY:Andar per cantine 2025 - Il Sentiero di Piano Liguori
URL:https://ischia.discovercampania.it/en/events/event/149236-andar-per-can
 tine-2025-il-sentiero-di-piano-liguori
END:VEVENT
END:VCALENDAR
