BEGIN:VCALENDAR
VERSION:2.0
PRODID:-//https://ischia.discovercampania.it///NONSGML kigkonsult.se iCalcreator 2.10.15//
METHOD:PUBLISH
BEGIN:VEVENT
UID:20260423T105353CEST-6975nZWG8l@https://ischia.discovercampania.it/
DTSTAMP:20260423T085353Z
DESCRIPTION:Pio e Amedeo in show al Negombo https://ischia.discovercampania
 .it/en/events/event/30492-pio-e-amedeo-show
DTSTART:20240821T193000Z
DTEND:20240821T213000Z
LOCATION:Parco Termale Negombo (Baia di S. Montano\, - 80076 Lacco Ameno NA
 \, Italia)
SUMMARY:Pio e Amedeo show
URL:https://ischia.discovercampania.it/en/events/event/30492-pio-e-amedeo-s
 how
END:VEVENT
END:VCALENDAR
