BEGIN:VCALENDAR
VERSION:2.0
PRODID:-//https://ischia.discovercampania.it///NONSGML kigkonsult.se iCalcreator 2.10.15//
METHOD:PUBLISH
BEGIN:VEVENT
UID:20260423T230228CEST-3817cRVXuR@https://ischia.discovercampania.it/
DTSTAMP:20260423T210228Z
DESCRIPTION:Summer Time Serrara: BELVEDERE AL CALAR DEL SOLE MUSICA CON DJ 
 MANUELITO https://ischia.discovercampania.it/en/events/event/31233-summer-
 time-serrara-belvedere-al-calar-del-sole-musica-con-dj-manuelito
DTSTART:20240719T170000Z
DTEND:20240719T215200Z
LOCATION:Piazzale di Serrara e belvedere (Piazza Pietro Paolo Iacono\, 5\, 
 80070 Serrara Fontana NA\, Italy)
SUMMARY:Summer Time Serrara: BELVEDERE AL CALAR DEL SOLE MUSICA CON DJ MANU
 ELITO
URL:https://ischia.discovercampania.it/en/events/event/31233-summer-time-se
 rrara-belvedere-al-calar-del-sole-musica-con-dj-manuelito
END:VEVENT
END:VCALENDAR
