BEGIN:VCALENDAR
VERSION:2.0
PRODID:-//https://ischia.discovercampania.it///NONSGML kigkonsult.se iCalcreator 2.10.15//
METHOD:PUBLISH
BEGIN:VEVENT
UID:20260425T212418CEST-3633Ej7Osc@https://ischia.discovercampania.it/
DTSTAMP:20260425T192418Z
DESCRIPTION:Summer Time Serrara: MUSICNIGHT CON I PERSONAL https://ischia.d
 iscovercampania.it/en/events/event/31249-summer-time-serrara-musicnight-co
 n-i-personal
DTSTART:20240822T190000Z
DTEND:20240822T210000Z
LOCATION:Piazza Sant'Angelo  (80070 Serrara Fontana NA\, Italia)
SUMMARY:Summer Time Serrara: MUSICNIGHT CON I PERSONAL
URL:https://ischia.discovercampania.it/en/events/event/31249-summer-time-se
 rrara-musicnight-con-i-personal
END:VEVENT
END:VCALENDAR
