BEGIN:VCALENDAR
VERSION:2.0
PRODID:-//https://ischia.discovercampania.it///NONSGML kigkonsult.se iCalcreator 2.10.15//
METHOD:PUBLISH
BEGIN:VEVENT
UID:20260423T182647CEST-0289TZvHvB@https://ischia.discovercampania.it/
DTSTAMP:20260423T162647Z
DESCRIPTION:Summer Time Serrara: MUSICNIGHT CON ANDY E FABER DJ https://isc
 hia.discovercampania.it/en/events/event/31251-summer-time-serrara-musicnig
 ht-con-andy-e-faber-dj
DTSTART:20240824T190000Z
DTEND:20240824T210000Z
LOCATION:Piazza Fontana (80070 Serrara Fontana NA\, Italia)
SUMMARY:Summer Time Serrara:  MUSICNIGHT CON ANDY E FABER DJ
URL:https://ischia.discovercampania.it/en/events/event/31251-summer-time-se
 rrara-musicnight-con-andy-e-faber-dj
END:VEVENT
END:VCALENDAR
