BEGIN:VCALENDAR
VERSION:2.0
PRODID:-//https://ischia.discovercampania.it///NONSGML kigkonsult.se iCalcreator 2.10.15//
METHOD:PUBLISH
BEGIN:VEVENT
UID:20260424T200930CEST-9624IEcv7M@https://ischia.discovercampania.it/
DTSTAMP:20260424T180930Z
DESCRIPTION:Antico Borgo di Noia ore 16.00 Presepe vivente a cura di Regina
  di Fiori https://ischia.discovercampania.it/en/events/event/36889-mare-co
 pp-mas-presepe-vivente
DTSTART:20241227T150000Z
DTEND:20241227T180000Z
LOCATION:Borgo di Noia\, Serrara Fontana (80070 Serrara Fontana NA\, Italia
 )
SUMMARY:Mare Copp Mas: Presepe vivente
URL:https://ischia.discovercampania.it/en/events/event/36889-mare-copp-mas-
 presepe-vivente
END:VEVENT
END:VCALENDAR
