BEGIN:VCALENDAR
VERSION:2.0
PRODID:-//https://ischia.discovercampania.it///NONSGML kigkonsult.se iCalcreator 2.10.15//
METHOD:PUBLISH
BEGIN:VEVENT
UID:20260423T124301CEST-3248mDS9I7@https://ischia.discovercampania.it/
DTSTAMP:20260423T104301Z
DESCRIPTION:Da anni ormai a Ferragosto si mangia il pane e pomodoro all’isc
 hitana\, sui pendii del monte Epomeo\, ma prima il tour dell’antico villag
 gio di pietra dei Frassitelli https://ischia.discovercampania.it/eventi/ev
 ento/29261-ferragosto-alla-falanga
DTSTART;VALUE=DATE:20240815
LOCATION:Forio d’Ischia (80075 Forio NA\, Italia)
SUMMARY:Ferragosto alla Falanga
URL:https://ischia.discovercampania.it/eventi/evento/29261-ferragosto-alla-
 falanga
END:VEVENT
END:VCALENDAR
