BEGIN:VCALENDAR
VERSION:2.0
PRODID:-//https://ischia.discovercampania.it///NONSGML kigkonsult.se iCalcreator 2.10.15//
METHOD:PUBLISH
BEGIN:VEVENT
UID:20260423T095646CEST-5462zZvtnh@https://ischia.discovercampania.it/
DTSTAMP:20260423T075646Z
DESCRIPTION:Enzo Fischetti e Cafè napoletano duo https://ischia.discovercam
 pania.it/eventi/evento/30267-enzo-fischetti-e-cafe-napoletano-duo
DTSTART:20240612T193000Z
DTEND:20240612T213000Z
LOCATION: Piazzetta Sant'Antonio  (Via Cumana\, 68\, 80074 Casamicciola Ter
 me NA\, Italia)
SUMMARY:Enzo Fischetti e Cafè napoletano duo
URL:https://ischia.discovercampania.it/eventi/evento/30267-enzo-fischetti-e
 -cafe-napoletano-duo
END:VEVENT
END:VCALENDAR
