BEGIN:VCALENDAR
VERSION:2.0
PRODID:-//https://ischia.discovercampania.it///NONSGML kigkonsult.se iCalcreator 2.10.15//
METHOD:PUBLISH
BEGIN:VEVENT
UID:20260424T175711CEST-20055B8vzc@https://ischia.discovercampania.it/
DTSTAMP:20260424T155711Z
DESCRIPTION:Umberto Tozzi: Notte rosa tour\nBiglietti disponibili su ticket
 One https://ischia.discovercampania.it/eventi/evento/30703-umberto-tozzi-n
 otte-rosa-tour
DTSTART:20240809T190000Z
DTEND:20240809T215100Z
LOCATION:Parco Termale Negombo (Baia di S. Montano\, - 80076 Lacco Ameno NA
 \, Italia)
SUMMARY:Umberto Tozzi: Notte rosa tour
URL:https://ischia.discovercampania.it/eventi/evento/30703-umberto-tozzi-no
 tte-rosa-tour
END:VEVENT
END:VCALENDAR
