BEGIN:VCALENDAR
VERSION:2.0
PRODID:-//https://ischia.discovercampania.it///NONSGML kigkonsult.se iCalcreator 2.10.15//
METHOD:PUBLISH
BEGIN:VEVENT
UID:20260425T130021CEST-5750lvlpZD@https://ischia.discovercampania.it/
DTSTAMP:20260425T110021Z
DESCRIPTION:Gran galà di pattinaggio artistico https://ischia.discovercampa
 nia.it/eventi/evento/30748-gran-gala-di-pattinaggio-artistico-carrambaaa-c
 he-serata
DTSTART:20240702T190000Z
DTEND:20240702T214900Z
LOCATION:Palazzetto dello Sport Ischia (Via Fondo Bosso\, 8\, 80077 Ischia 
 NA\, Italia)
SUMMARY:Gran galà di pattinaggio artistico: carrambaaa che serata
URL:https://ischia.discovercampania.it/eventi/evento/30748-gran-gala-di-pat
 tinaggio-artistico-carrambaaa-che-serata
END:VEVENT
END:VCALENDAR
