BEGIN:VCALENDAR
VERSION:2.0
PRODID:-//https://ischia.discovercampania.it///NONSGML kigkonsult.se iCalcreator 2.10.15//
METHOD:PUBLISH
BEGIN:VEVENT
UID:20260424T221730CEST-3152L2oDBn@https://ischia.discovercampania.it/
DTSTAMP:20260424T201730Z
DESCRIPTION:spettacolo con LINO D'ANGIÒAMEDEO COLELLAALAN DE LUCA https://i
 schia.discovercampania.it/eventi/evento/30754-calici-di-cultura-parlanno-c
 u-crianza
DTSTART:20240614T193000Z
DTEND:20240614T203000Z
LOCATION:Piazzale Cristoforo Colombo (Via Cristoforo Colombo\, 80075 Forio 
 NA\, Italia)
SUMMARY:Calici di cultura: Parlanno cu’ crianza
URL:https://ischia.discovercampania.it/eventi/evento/30754-calici-di-cultur
 a-parlanno-cu-crianza
END:VEVENT
END:VCALENDAR
