BEGIN:VCALENDAR
VERSION:2.0
PRODID:-//https://ischia.discovercampania.it///NONSGML kigkonsult.se iCalcreator 2.10.15//
METHOD:PUBLISH
BEGIN:VEVENT
UID:20260419T181056CEST-0337l2n03l@https://ischia.discovercampania.it/
DTSTAMP:20260419T161056Z
DESCRIPTION:Proiezioni:\nPARE PARECCHIO PARIGIdi Leonardo Pieraccioni - 97
 \n&nbsp\; https://ischia.discovercampania.it/eventi/evento/31204-ischia-gl
 obal-fest-2024
DTSTART:20240708T193000Z
DTEND:20240708T215900Z
LOCATION:Piazzale del Soccorso (Via del Soccorso\, 6\, 80075 Forio NA\, Ita
 lia)
SUMMARY:Ischia Global Fest 2024
URL:https://ischia.discovercampania.it/eventi/evento/31204-ischia-global-fe
 st-2024
END:VEVENT
END:VCALENDAR
