BEGIN:VCALENDAR
VERSION:2.0
PRODID:-//https://ischia.discovercampania.it///NONSGML kigkonsult.se iCalcreator 2.10.15//
METHOD:PUBLISH
BEGIN:VEVENT
UID:20260423T030140CEST-1711eFD5al@https://ischia.discovercampania.it/
DTSTAMP:20260423T010140Z
DESCRIPTION:Summer Time Serrara: 'POLLOCK E L'ACTION https://ischia.discove
 rcampania.it/eventi/evento/31235-summer-time-serrara-pollock-e-laction
DTSTART:20240724T190000Z
DTEND:20240724T215200Z
LOCATION:Piazza Serrara (80070 Serrara Fontana NA\, Italia)
SUMMARY:Summer Time Serrara: 'POLLOCK E L'ACTION 
URL:https://ischia.discovercampania.it/eventi/evento/31235-summer-time-serr
 ara-pollock-e-laction
END:VEVENT
END:VCALENDAR
