BEGIN:VCALENDAR
VERSION:2.0
PRODID:-//https://ischia.discovercampania.it///NONSGML kigkonsult.se iCalcreator 2.10.15//
METHOD:PUBLISH
BEGIN:VEVENT
UID:20260419T203656CEST-8148zkP3bH@https://ischia.discovercampania.it/
DTSTAMP:20260419T183656Z
DESCRIPTION:Summer Time Serrara: BELVEDERE AL CALAR DEL SOLE MUSICA CON DJ 
 PAKINHO https://ischia.discovercampania.it/eventi/evento/31237-summer-time
 -serrara-belvedere-al-calar-del-sole-musica-con-dj-pakinho
DTSTART:20240726T170000Z
DTEND:20240726T215200Z
LOCATION:Piazza Serrara (80070 Serrara Fontana NA\, Italia)
SUMMARY:Summer Time Serrara: BELVEDERE AL CALAR DEL SOLE MUSICA CON DJ PAKI
 NHO
URL:https://ischia.discovercampania.it/eventi/evento/31237-summer-time-serr
 ara-belvedere-al-calar-del-sole-musica-con-dj-pakinho
END:VEVENT
END:VCALENDAR
