BEGIN:VCALENDAR
VERSION:2.0
PRODID:-//https://ischia.discovercampania.it///NONSGML kigkonsult.se iCalcreator 2.10.15//
METHOD:PUBLISH
BEGIN:VEVENT
UID:20260420T200356CEST-1953pvRKNU@https://ischia.discovercampania.it/
DTSTAMP:20260420T180356Z
DESCRIPTION:Summer Time Serrara: DR WHY E MUSICNIGHT CON SIMONE E ANDY DJ h
 ttps://ischia.discovercampania.it/eventi/evento/31239-summer-time-serrara-
 musicnight-con-dj-alex-cannava
DTSTART:20240801T190000Z
DTEND:20240801T215200Z
LOCATION:Borgo di Sant'Angelo (Via Nazario Sauro\, Sant'angelo NA\, Italia)
SUMMARY:Summer Time Serrara: MUSICNIGHT CON DJ ALEX CANNAVA
URL:https://ischia.discovercampania.it/eventi/evento/31239-summer-time-serr
 ara-musicnight-con-dj-alex-cannava
END:VEVENT
END:VCALENDAR
