BEGIN:VCALENDAR
VERSION:2.0
PRODID:-//https://ischia.discovercampania.it///NONSGML kigkonsult.se iCalcreator 2.10.15//
METHOD:PUBLISH
BEGIN:VEVENT
UID:20260421T034815CEST-0946FromHm@https://ischia.discovercampania.it/
DTSTAMP:20260421T014815Z
DESCRIPTION:Summer Time Serrara: BELVEDERE AL CALAR DEL SOLE MUSICA CON DJ 
 PAKINHO https://ischia.discovercampania.it/eventi/evento/31243-summer-time
 -serrara-belvedere-al-calar-del-sole-musica-con-dj-pakinho
DTSTART:20240809T170000Z
DTEND:20240809T210000Z
LOCATION:Piazza Serrara (80070 Serrara Fontana NA\, Italia)
SUMMARY:Summer Time Serrara: BELVEDERE AL CALAR DEL SOLE MUSICA CON DJ PAKI
 NHO
URL:https://ischia.discovercampania.it/eventi/evento/31243-summer-time-serr
 ara-belvedere-al-calar-del-sole-musica-con-dj-pakinho
END:VEVENT
END:VCALENDAR
