BEGIN:VCALENDAR
VERSION:2.0
PRODID:-//https://ischia.discovercampania.it///NONSGML kigkonsult.se iCalcreator 2.10.15//
METHOD:PUBLISH
BEGIN:VEVENT
UID:20260419T231628CEST-0764PNC3BO@https://ischia.discovercampania.it/
DTSTAMP:20260419T211628Z
DESCRIPTION:Summer Time Serrara: MUSICNIGHT CON I PERSONAL https://ischia.d
 iscovercampania.it/eventi/evento/31252-summer-time-serrara-musicnight-con-
 i-personal
DTSTART:20240829T190000Z
DTEND:20240829T210000Z
LOCATION:Succhivo (Provinciale Succhivo Sant'Angelo\, 21-27\, 80070 Sant'An
 gelo NA\, Italy)
SUMMARY:Summer Time Serrara: MUSICNIGHT CON I PERSONAL
URL:https://ischia.discovercampania.it/eventi/evento/31252-summer-time-serr
 ara-musicnight-con-i-personal
END:VEVENT
END:VCALENDAR
