BEGIN:VCALENDAR
VERSION:2.0
PRODID:-//https://ischia.discovercampania.it///NONSGML kigkonsult.se iCalcreator 2.10.15//
METHOD:PUBLISH
BEGIN:VEVENT
UID:20260425T212305CEST-22422XXCzC@https://ischia.discovercampania.it/
DTSTAMP:20260425T192305Z
DESCRIPTION:Gianni Mobilya Tamburriata Band https://ischia.discovercampania
 .it/eventi/evento/31455-gianni-mobilya-tamburriata-band
DTSTART:20240720T193000Z
DTEND:20240720T215900Z
LOCATION:Basilica Pontificia Santa Maria Maddalena (Corso Garibaldi\, 80074
  Casamicciola Terme NA\, Italia)
SUMMARY:Gianni Mobilya Tamburriata Band
URL:https://ischia.discovercampania.it/eventi/evento/31455-gianni-mobilya-t
 amburriata-band
END:VEVENT
END:VCALENDAR
