BEGIN:VCALENDAR
VERSION:2.0
PRODID:-//https://ischia.discovercampania.it///NONSGML kigkonsult.se iCalcreator 2.10.15//
METHOD:PUBLISH
BEGIN:VEVENT
UID:20260424T222311CEST-5981PrURVA@https://ischia.discovercampania.it/
DTSTAMP:20260424T202311Z
DESCRIPTION:Isola—Mostradi Chiara Arturo sul tema dell’insularità\, in cui 
 la geografia diventa il punto di partenza per un’indagine introspettiva. C
 on il contributo organizzativo di Autocton Garden A.P.S. https://ischia.di
 scovercampania.it/eventi/evento/31532-rassegna-estiva-la-colombaia-isola-d
 i-chiara-arturo
DTSTART:20240801T180000Z
DTEND:20240801T203000Z
LOCATION:La Colombaia (Via Francesco Calise\, 130\, 80075 Forio NA\, Italia
 )
SUMMARY:Rassegna estiva La Colombaia: Isola di Chiara Arturo
URL:https://ischia.discovercampania.it/eventi/evento/31532-rassegna-estiva-
 la-colombaia-isola-di-chiara-arturo
END:VEVENT
END:VCALENDAR
