BEGIN:VCALENDAR
VERSION:2.0
PRODID:-//https://ischia.discovercampania.it///NONSGML kigkonsult.se iCalcreator 2.10.15//
METHOD:PUBLISH
BEGIN:VEVENT
UID:20260423T040551CEST-7739bDZIOL@https://ischia.discovercampania.it/
DTSTAMP:20260423T020551Z
DESCRIPTION:di Over Garden A.P.S per la valorizzazione delle eccellenze aut
 octone ischitane(Arte\, Cultura\, Enogastronomia\, Musica) https://ischia.
 discovercampania.it/eventi/evento/31538-rassegna-estiva-la-colombaia-autoc
 ton-garden
DTSTART:20240820T173000Z
DTEND:20240820T193000Z
LOCATION:La Colombaia (Via Francesco Calise\, 130\, 80075 Forio NA\, Italia
 )
SUMMARY:Rassegna estiva La Colombaia: Autocton Garden
URL:https://ischia.discovercampania.it/eventi/evento/31538-rassegna-estiva-
 la-colombaia-autocton-garden
END:VEVENT
END:VCALENDAR
