BEGIN:VCALENDAR
VERSION:2.0
PRODID:-//https://ischia.discovercampania.it///NONSGML kigkonsult.se iCalcreator 2.10.15//
METHOD:PUBLISH
BEGIN:VEVENT
UID:20260425T134204CEST-7347aXj5KU@https://ischia.discovercampania.it/
DTSTAMP:20260425T114204Z
DESCRIPTION:racconta la Colombaia di Luchino Visconti https://ischia.discov
 ercampania.it/eventi/evento/31542-rassegna-estiva-la-colombaia-umberto-bro
 ccoli
DTSTART:20240831T180000Z
DTEND:20240831T203000Z
LOCATION:La Colombaia (Via Francesco Calise\, 130\, 80075 Forio NA\, Italia
 )
SUMMARY:Rassegna estiva La Colombaia: Umberto Broccoli
URL:https://ischia.discovercampania.it/eventi/evento/31542-rassegna-estiva-
 la-colombaia-umberto-broccoli
END:VEVENT
END:VCALENDAR
