BEGIN:VCALENDAR
VERSION:2.0
PRODID:-//https://ischia.discovercampania.it///NONSGML kigkonsult.se iCalcreator 2.10.15//
METHOD:PUBLISH
BEGIN:VEVENT
UID:20260423T210955CEST-1542oE786v@https://ischia.discovercampania.it/
DTSTAMP:20260423T190955Z
DESCRIPTION:di e con Erri De Luca autore e interprete\, diretto da Marco Zi
 ngaretti anteprima del prossimo libro in uscita https://ischia.discovercam
 pania.it/eventi/evento/31548-rassegna-estiva-la-colombaia-leta-sperimental
 e
DTSTART:20240919T170000Z
DTEND:20240919T183000Z
LOCATION:La Colombaia (Via Francesco Calise\, 130\, 80075 Forio NA\, Italia
 )
SUMMARY:Rassegna estiva La Colombaia: L’età sperimentale
URL:https://ischia.discovercampania.it/eventi/evento/31548-rassegna-estiva-
 la-colombaia-leta-sperimentale
END:VEVENT
END:VCALENDAR
