BEGIN:VCALENDAR
VERSION:2.0
PRODID:-//https://ischia.discovercampania.it///NONSGML kigkonsult.se iCalcreator 2.10.15//
METHOD:PUBLISH
BEGIN:VEVENT
UID:20260424T222343CEST-9381NF952D@https://ischia.discovercampania.it/
DTSTAMP:20260424T202343Z
DESCRIPTION:Marcello Mastroianni omaggio per la nascita di Marcello Mastroi
 ann https://ischia.discovercampania.it/eventi/evento/31550-rassegna-estiva
 -la-colombaia-lvmm-luchino-visconti
DTSTART:20240928T170000Z
DTEND:20240928T183000Z
LOCATION:La Colombaia (Via Francesco Calise\, 130\, 80075 Forio NA\, Italia
 )
SUMMARY:Rassegna estiva La Colombaia: LVMM: Luchino Visconti
URL:https://ischia.discovercampania.it/eventi/evento/31550-rassegna-estiva-
 la-colombaia-lvmm-luchino-visconti
END:VEVENT
END:VCALENDAR
