BEGIN:VCALENDAR
VERSION:2.0
PRODID:-//https://ischia.discovercampania.it///NONSGML kigkonsult.se iCalcreator 2.10.15//
METHOD:PUBLISH
BEGIN:VEVENT
UID:20260424T205127CEST-6787URTMma@https://ischia.discovercampania.it/
DTSTAMP:20260424T185127Z
DESCRIPTION:a cura dell’AMP Regno di Nettuno https://ischia.discovercampani
 a.it/eventi/evento/31551-rassegna-estiva-la-colombaia-scuola-weec-ambienta
 le
DTSTART;VALUE=DATE:20241003
LOCATION:La Colombaia (Via Francesco Calise\, 130\, 80075 Forio NA\, Italia
 )
SUMMARY:Rassegna estiva La Colombaia: Scuola Weec ambientale
URL:https://ischia.discovercampania.it/eventi/evento/31551-rassegna-estiva-
 la-colombaia-scuola-weec-ambientale
END:VEVENT
END:VCALENDAR
