BEGIN:VCALENDAR
VERSION:2.0
PRODID:-//https://ischia.discovercampania.it///NONSGML kigkonsult.se iCalcreator 2.10.15//
METHOD:PUBLISH
BEGIN:VEVENT
UID:20260423T230759CEST-7874KUCT2r@https://ischia.discovercampania.it/
DTSTAMP:20260423T210759Z
DESCRIPTION: https://ischia.discovercampania.it/eventi/evento/31856-forio-p
 er-la-cultura-villa-la-colombaia-di-luchino-visconti-omaggia-alain-delon
DTSTART:20240819T190000Z
DTEND:20240819T214200Z
LOCATION:La Colombaia (Via Francesco Calise\, 130\, 80075 Forio NA\, Italia
 )
SUMMARY:Forio per la Cultura: Villa La Colombaia di Luchino Visconti omaggi
 a Alain Delon
URL:https://ischia.discovercampania.it/eventi/evento/31856-forio-per-la-cul
 tura-villa-la-colombaia-di-luchino-visconti-omaggia-alain-delon
END:VEVENT
END:VCALENDAR
