BEGIN:VCALENDAR
VERSION:2.0
PRODID:-//https://ischia.discovercampania.it///NONSGML kigkonsult.se iCalcreator 2.10.15//
METHOD:PUBLISH
BEGIN:VEVENT
UID:20260420T003319CEST-32987JkdB5@https://ischia.discovercampania.it/
DTSTAMP:20260419T223319Z
DESCRIPTION:20.00 CABARET SHOW una serata di puro divertimento con i simpat
 ici sketch del famoso comico di Made in Sud in Piazza San Leonardo in Panz
 a https://ischia.discovercampania.it/eventi/evento/34085-forio-merryland-c
 abaret-show
DTSTART:20241208T190000Z
DTEND:20241208T210000Z
LOCATION:Comune di Forio (Piazza Municipio\, 1\, 80075 Forio NA\, Italia)
SUMMARY:Forio MerryLand: CABARET SHOW
URL:https://ischia.discovercampania.it/eventi/evento/34085-forio-merryland-
 cabaret-show
END:VEVENT
END:VCALENDAR
