BEGIN:VCALENDAR
VERSION:2.0
PRODID:-//https://ischia.discovercampania.it///NONSGML kigkonsult.se iCalcreator 2.10.15//
METHOD:PUBLISH
BEGIN:VEVENT
UID:20260422T155859CEST-4730W3ur9g@https://ischia.discovercampania.it/
DTSTAMP:20260422T135859Z
DESCRIPTION:GIOCHI ANTICHI ritorno al puro divertimento di una volta con gl
 i storici giochi per entusiasmare ed intrattenere adulti e bambini in Mont
 erone Forio https://ischia.discovercampania.it/eventi/evento/34087-forio-m
 erryland-giochi-antichi
DTSTART:20241213T143000Z
DTEND:20241213T170000Z
LOCATION:Comune di Forio (Piazza Municipio\, 1\, 80075 Forio NA\, Italia)
SUMMARY:Forio MerryLand: GIOCHI ANTICHI
URL:https://ischia.discovercampania.it/eventi/evento/34087-forio-merryland-
 giochi-antichi
END:VEVENT
END:VCALENDAR
