BEGIN:VCALENDAR
VERSION:2.0
PRODID:-//https://ischia.discovercampania.it///NONSGML kigkonsult.se iCalcreator 2.10.15//
METHOD:PUBLISH
BEGIN:VEVENT
UID:20260423T062301CEST-8120UKcEIx@https://ischia.discovercampania.it/
DTSTAMP:20260423T042301Z
DESCRIPTION:18.30 SCARIUM spettacolo teatrale itinerantenel vicolo del Torr
 ione&nbsp\; https://ischia.discovercampania.it/eventi/evento/34088-forio-m
 erryland-scarium
DTSTART:20241213T173000Z
DTEND:20241213T190000Z
LOCATION:Comune di Forio (Piazza Municipio\, 1\, 80075 Forio NA\, Italia)
SUMMARY:Forio MerryLand: SCARIUM 
URL:https://ischia.discovercampania.it/eventi/evento/34088-forio-merryland-
 scarium
END:VEVENT
END:VCALENDAR
