BEGIN:VCALENDAR
VERSION:2.0
PRODID:-//https://ischia.discovercampania.it///NONSGML kigkonsult.se iCalcreator 2.10.15//
METHOD:PUBLISH
BEGIN:VEVENT
UID:20260425T055204CEST-6057VDPDTs@https://ischia.discovercampania.it/
DTSTAMP:20260425T035204Z
DESCRIPTION:18:00 e 19:00 CHRISTMAS ANGELS recital di Natale in concerto e 
 spettacolo di canto moderno con nel Chiostro di San Francesco in Piazza Mu
 nicipio Forio&nbsp\; https://ischia.discovercampania.it/eventi/evento/3409
 5-forio-merryland-christmas-angels
DTSTART:20241216T170000Z
DTEND:20241216T193000Z
LOCATION:Comune di Forio (Piazza Municipio\, 1\, 80075 Forio NA\, Italia)
SUMMARY:Forio MerryLand: CHRISTMAS ANGELS
URL:https://ischia.discovercampania.it/eventi/evento/34095-forio-merryland-
 christmas-angels
END:VEVENT
END:VCALENDAR
