BEGIN:VCALENDAR
VERSION:2.0
PRODID:-//https://ischia.discovercampania.it///NONSGML kigkonsult.se iCalcreator 2.10.15//
METHOD:PUBLISH
BEGIN:VEVENT
UID:20260421T034733CEST-8252vUv0uh@https://ischia.discovercampania.it/
DTSTAMP:20260421T014733Z
DESCRIPTION:19.30 SPETTACOLO CON CORO degli allievi nel Chiostro di San Fra
 ncesco in Piazza Municipio Forio https://ischia.discovercampania.it/eventi
 /evento/34100-forio-merryland-spettacolo-con-coro
DTSTART:20241219T183000Z
DTEND:20241219T200000Z
LOCATION:Comune di Forio (Piazza Municipio\, 1\, 80075 Forio NA\, Italia)
SUMMARY:Forio MerryLand: SPETTACOLO CON CORO
URL:https://ischia.discovercampania.it/eventi/evento/34100-forio-merryland-
 spettacolo-con-coro
END:VEVENT
END:VCALENDAR
