BEGIN:VCALENDAR
VERSION:2.0
PRODID:-//https://ischia.discovercampania.it///NONSGML kigkonsult.se iCalcreator 2.10.15//
METHOD:PUBLISH
BEGIN:VEVENT
UID:20260423T113649CEST-1077tb6eKB@https://ischia.discovercampania.it/
DTSTAMP:20260423T093649Z
DESCRIPTION:07:45 LE DEGUSTAZIONI TIPICHE la bruschetta foriana\, la pasta 
 e fagioli con le cozze e il buon vino paesano&nbsp\; &nbsp\;\n&nbsp\; http
 s://ischia.discovercampania.it/eventi/evento/34114-forio-merryland-le-degu
 stazioni-tipiche
DTSTART:20241224T064500Z
DTEND:20241224T080000Z
LOCATION:Comune di Forio (Piazza Municipio\, 1\, 80075 Forio NA\, Italia)
SUMMARY:Forio MerryLand: LE DEGUSTAZIONI TIPICHE
URL:https://ischia.discovercampania.it/eventi/evento/34114-forio-merryland-
 le-degustazioni-tipiche
END:VEVENT
END:VCALENDAR
