BEGIN:VCALENDAR
VERSION:2.0
PRODID:-//https://ischia.discovercampania.it///NONSGML kigkonsult.se iCalcreator 2.10.15//
METHOD:PUBLISH
BEGIN:VEVENT
UID:20260422T040433CEST-26536hJIkG@https://ischia.discovercampania.it/
DTSTAMP:20260422T020433Z
DESCRIPTION:11:30 SFILATA DI NATALE per il centro storico di Forio della st
 orica Banda Musicale di Forio\n&nbsp\; https://ischia.discovercampania.it/
 eventi/evento/34116-forio-merryland-sfilata-di-natale
DTSTART:20241225T103000Z
DTEND:20241225T130000Z
LOCATION:Comune di Forio (Piazza Municipio\, 1\, 80075 Forio NA\, Italia)
SUMMARY:Forio MerryLand: SFILATA DI NATALE
URL:https://ischia.discovercampania.it/eventi/evento/34116-forio-merryland-
 sfilata-di-natale
END:VEVENT
END:VCALENDAR
