BEGIN:VCALENDAR
VERSION:2.0
PRODID:-//https://ischia.discovercampania.it///NONSGML kigkonsult.se iCalcreator 2.10.15//
METHOD:PUBLISH
BEGIN:VEVENT
UID:20260419T153502CEST-2390x8wfub@https://ischia.discovercampania.it/
DTSTAMP:20260419T133502Z
DESCRIPTION:20.00 XMAS DRAGODI evento settimanale del calendario dedicato a
 gli appassionati di giochi da tavolo e giochi di ruolo nel Salone di San M
 ichele in Monterone Forio https://ischia.discovercampania.it/eventi/evento
 /34121-forio-merryland-xmas-dragodi
DTSTART:20241226T190000Z
DTEND:20241226T220000Z
LOCATION:Comune di Forio (Piazza Municipio\, 1\, 80075 Forio NA\, Italia)
SUMMARY:Forio MerryLand:  XMAS DRAGODI 
URL:https://ischia.discovercampania.it/eventi/evento/34121-forio-merryland-
 xmas-dragodi
END:VEVENT
END:VCALENDAR
