BEGIN:VCALENDAR
VERSION:2.0
PRODID:-//https://ischia.discovercampania.it///NONSGML kigkonsult.se iCalcreator 2.10.15//
METHOD:PUBLISH
BEGIN:VEVENT
UID:20260423T182903CEST-9990lBf2hU@https://ischia.discovercampania.it/
DTSTAMP:20260423T162903Z
DESCRIPTION:19.30 UNA MAGIA DA VIVERE IN MUSICA concerto degli allievi con 
 pianoforte a coda nell’Oratorio della Chiesa S. Maria di Loreto in Forio&n
 bsp\; https://ischia.discovercampania.it/eventi/evento/34126-forio-merryla
 nd-una-magia-da-vivere-in-musica
DTSTART:20241228T183000Z
DTEND:20241228T200000Z
LOCATION:Comune di Forio (Piazza Municipio\, 1\, 80075 Forio NA\, Italia)
SUMMARY:Forio MerryLand: UNA MAGIA DA VIVERE IN MUSICA 
URL:https://ischia.discovercampania.it/eventi/evento/34126-forio-merryland-
 una-magia-da-vivere-in-musica
END:VEVENT
END:VCALENDAR
