BEGIN:VCALENDAR
VERSION:2.0
PRODID:-//https://ischia.discovercampania.it///NONSGML kigkonsult.se iCalcreator 2.10.15//
METHOD:PUBLISH
BEGIN:VEVENT
UID:20260419T203030CEST-4434UIKGvj@https://ischia.discovercampania.it/
DTSTAMP:20260419T183030Z
DESCRIPTION:CONCERTO DI NATALE della Banda Musicale di Forionella Chiesa di
  Santa Maria di Loreto in Forio https://ischia.discovercampania.it/eventi/
 evento/34284-forio-merryland-concerto-di-natale
DTSTART:20241229T183000Z
DTEND:20241229T200000Z
LOCATION:Comune di Forio (Piazza Municipio\, 1\, 80075 Forio NA\, Italia)
SUMMARY:Forio MerryLand: CONCERTO DI NATALE
URL:https://ischia.discovercampania.it/eventi/evento/34284-forio-merryland-
 concerto-di-natale
END:VEVENT
END:VCALENDAR
