BEGIN:VCALENDAR
VERSION:2.0
PRODID:-//https://ischia.discovercampania.it///NONSGML kigkonsult.se iCalcreator 2.10.15//
METHOD:PUBLISH
BEGIN:VEVENT
UID:20260420T012532CEST-5760EhUdDC@https://ischia.discovercampania.it/
DTSTAMP:20260419T232532Z
DESCRIPTION:GRAN CONCERTO GOSPEL ITALIAN SINGER nella Chiesa di San Leonard
 o Abate in Panza e ore 21.00 nella Chiesa Santa Maria di Loreto in Forio h
 ttps://ischia.discovercampania.it/eventi/evento/34295-forio-merryland-gran
 -concerto-gospel-italian-singer
DTSTART:20250101T180000Z
DTEND:20250101T205900Z
LOCATION:Comune di Forio (Piazza Municipio\, 1\, 80075 Forio NA\, Italia)
SUMMARY:Forio MerryLand: GRAN CONCERTO GOSPEL ITALIAN SINGER
URL:https://ischia.discovercampania.it/eventi/evento/34295-forio-merryland-
 gran-concerto-gospel-italian-singer
END:VEVENT
END:VCALENDAR
