BEGIN:VCALENDAR
VERSION:2.0
PRODID:-//https://ischia.discovercampania.it///NONSGML kigkonsult.se iCalcreator 2.10.15//
METHOD:PUBLISH
BEGIN:VEVENT
UID:20260425T164443CEST-0597HWlcoa@https://ischia.discovercampania.it/
DTSTAMP:20260425T144443Z
DESCRIPTION:&nbsp\;Brunch in piazza https://ischia.discovercampania.it/even
 ti/evento/35836-natale-a-ischia-brunch-in-piazza
DTSTART:20241231T110000Z
DTEND:20241231T140000Z
LOCATION:Via Roma (Via Roma\, 80077 Ischia NA\, Italia)
SUMMARY:Natale a Ischia: Brunch in piazza
URL:https://ischia.discovercampania.it/eventi/evento/35836-natale-a-ischia-
 brunch-in-piazza
END:VEVENT
END:VCALENDAR
