BEGIN:VCALENDAR
VERSION:2.0
PRODID:-//https://ischia.discovercampania.it///NONSGML kigkonsult.se iCalcreator 2.10.15//
METHOD:PUBLISH
BEGIN:VEVENT
UID:20260425T012229CEST-4114AdnUw4@https://ischia.discovercampania.it/
DTSTAMP:20260424T232229Z
DESCRIPTION:Natale a Ischia: Stelle in strada https://ischia.discovercampan
 ia.it/eventi/evento/35838-natale-a-ischia-stelle-in-strada
DTSTART:20241229T200000Z
DTEND:20241229T220000Z
LOCATION:Via Roma (Via Roma\, 80077 Ischia NA\, Italia)
SUMMARY:Natale a Ischia: Stelle in strada
URL:https://ischia.discovercampania.it/eventi/evento/35838-natale-a-ischia-
 stelle-in-strada
END:VEVENT
END:VCALENDAR
