BEGIN:VCALENDAR
VERSION:2.0
PRODID:-//https://ischia.discovercampania.it///NONSGML kigkonsult.se iCalcreator 2.10.15//
METHOD:PUBLISH
BEGIN:VEVENT
UID:20260423T055055CEST-9489wnCczG@https://ischia.discovercampania.it/
DTSTAMP:20260423T035055Z
DESCRIPTION:Franco Arminio – Sacro Minore – spettacolo https://ischia.disco
 vercampania.it/eventi/evento/36811-bellissima-rassegna-di-eventi-franco-ar
 minio---sacro-minore---spettacolo
DTSTART:20241211T160000Z
DTEND:20241211T180000Z
LOCATION:La Colombaia (Via Francesco Calise\, 130\, 80075 Forio NA\, Italia
 )
SUMMARY:“BELLISSIMA” rassegna di eventi: Franco Arminio – Sacro Minore – sp
 ettacolo 
URL:https://ischia.discovercampania.it/eventi/evento/36811-bellissima-rasse
 gna-di-eventi-franco-arminio---sacro-minore---spettacolo
END:VEVENT
END:VCALENDAR
