BEGIN:VCALENDAR
VERSION:2.0
PRODID:-//https://ischia.discovercampania.it///NONSGML kigkonsult.se iCalcreator 2.10.15//
METHOD:PUBLISH
BEGIN:VEVENT
UID:20260423T092141CEST-1820upiVOw@https://ischia.discovercampania.it/
DTSTAMP:20260423T072141Z
DESCRIPTION:“Francesco Rosi. Alle radici del cinema politico italiano” inco
 ntro a cura di Vaghe Stelle dell’Orsa – I Magliari –&nbsp\; https://ischia
 .discovercampania.it/eventi/evento/36814-bellissima-rassegna-di-eventi-fra
 ncesco-rosi-alle-radici-del-cinema-politico-italiano
DTSTART:20241215T180000Z
DTEND:20241215T200000Z
LOCATION:La Colombaia (Via Francesco Calise\, 130\, 80075 Forio NA\, Italia
 )
SUMMARY:“BELLISSIMA” rassegna di eventi: “Francesco Rosi. Alle radici del c
 inema politico italiano”
URL:https://ischia.discovercampania.it/eventi/evento/36814-bellissima-rasse
 gna-di-eventi-francesco-rosi-alle-radici-del-cinema-politico-italiano
END:VEVENT
END:VCALENDAR
