BEGIN:VCALENDAR
VERSION:2.0
PRODID:-//https://ischia.discovercampania.it///NONSGML kigkonsult.se iCalcreator 2.10.15//
METHOD:PUBLISH
BEGIN:VEVENT
UID:20260423T072617CEST-73325tl5fV@https://ischia.discovercampania.it/
DTSTAMP:20260423T052617Z
DESCRIPTION:Francesco Rosi. Alle radici del cinema politico italiano” incon
 tro a cura di Vaghe Stelle dell’Orsa – Le Mani Sulla Città-&nbsp\; https:/
 /ischia.discovercampania.it/eventi/evento/36821-bellissima-rassegna-di-eve
 nti-francesco-rosi-alle-radici-del-cinema-politico-italiano
DTSTART:20241228T180000Z
DTEND:20241228T200000Z
LOCATION:La Colombaia (Via Francesco Calise\, 130\, 80075 Forio NA\, Italia
 )
SUMMARY:“BELLISSIMA” rassegna di eventi: “Francesco Rosi. Alle radici del c
 inema politico italiano”
URL:https://ischia.discovercampania.it/eventi/evento/36821-bellissima-rasse
 gna-di-eventi-francesco-rosi-alle-radici-del-cinema-politico-italiano
END:VEVENT
END:VCALENDAR
