BEGIN:VCALENDAR
VERSION:2.0
PRODID:-//https://ischia.discovercampania.it///NONSGML kigkonsult.se iCalcreator 2.10.15//
METHOD:PUBLISH
BEGIN:VEVENT
UID:20260424T205527CEST-7520Mco0Bi@https://ischia.discovercampania.it/
DTSTAMP:20260424T185527Z
DESCRIPTION:Streghe &amp\; gattopardi. A teatro con Luchino Visconti “Proge
 tto di Laboratorio Teatrale site specific https://ischia.discovercampania.
 it/eventi/evento/36822-bellissima-rassegna-di-eventi-streghe-gattopardi
DTSTART:20241227T183000Z
DTEND:20241227T200000Z
LOCATION:La Colombaia (Via Francesco Calise\, 130\, 80075 Forio NA\, Italia
 )
SUMMARY:'BELLISSIMA” rassegna di eventi: “Streghe & gattopardi'
URL:https://ischia.discovercampania.it/eventi/evento/36822-bellissima-rasse
 gna-di-eventi-streghe-gattopardi
END:VEVENT
END:VCALENDAR
