BEGIN:VCALENDAR
VERSION:2.0
PRODID:-//https://ischia.discovercampania.it///NONSGML kigkonsult.se iCalcreator 2.10.15//
METHOD:PUBLISH
BEGIN:VEVENT
UID:20260423T091213CEST-33617V2vsh@https://ischia.discovercampania.it/
DTSTAMP:20260423T071213Z
DESCRIPTION:inaugurazione mostra fotografica a cura di Gino Di Meglio&nbsp\
 ; https://ischia.discovercampania.it/eventi/evento/36823-bellissima-rasseg
 na-di-eventi-inaugurazione-mostra-fotografica
DTSTART:20241229T170000Z
DTEND:20241229T180000Z
LOCATION:La Colombaia (Via Francesco Calise\, 130\, 80075 Forio NA\, Italia
 )
SUMMARY:“BELLISSIMA” rassegna di eventi: inaugurazione mostra fotografica 
URL:https://ischia.discovercampania.it/eventi/evento/36823-bellissima-rasse
 gna-di-eventi-inaugurazione-mostra-fotografica
END:VEVENT
END:VCALENDAR
