BEGIN:VCALENDAR
VERSION:2.0
PRODID:-//https://ischia.discovercampania.it///NONSGML kigkonsult.se iCalcreator 2.10.15//
METHOD:PUBLISH
BEGIN:VEVENT
UID:20260424T062819CEST-5161AKUiAj@https://ischia.discovercampania.it/
DTSTAMP:20260424T042819Z
DESCRIPTION:Valerio Sgarra in Crocevia: salotto di parole e musiche migrant
 i&nbsp\; https://ischia.discovercampania.it/eventi/evento/36824-bellissima
 -rassegna-di-eventi-valerio-sgarra-in-crocevia
DTSTART:20250103T180000Z
DTEND:20250103T200000Z
LOCATION:La Colombaia (Via Francesco Calise\, 130\, 80075 Forio NA\, Italia
 )
SUMMARY:“BELLISSIMA” rassegna di eventi: Valerio Sgarra in Crocevia
URL:https://ischia.discovercampania.it/eventi/evento/36824-bellissima-rasse
 gna-di-eventi-valerio-sgarra-in-crocevia
END:VEVENT
END:VCALENDAR
