BEGIN:VCALENDAR
VERSION:2.0
PRODID:-//https://ischia.discovercampania.it///NONSGML kigkonsult.se iCalcreator 2.10.15//
METHOD:PUBLISH
BEGIN:VEVENT
UID:20260425T182429CEST-4260tWtrVb@https://ischia.discovercampania.it/
DTSTAMP:20260425T162429Z
DESCRIPTION:Valerio Sgarra primo in Crocevia: salotto di parole e musiche m
 igranti.&nbsp\; https://ischia.discovercampania.it/eventi/evento/36830-bel
 lissima-rassegna-di-eventi-valerio-sgarra-primo-in-crocevia
DTSTART:20250125T170000Z
DTEND:20250125T200000Z
LOCATION:La Colombaia (Via Francesco Calise\, 130\, 80075 Forio NA\, Italia
 )
SUMMARY:“BELLISSIMA” rassegna di eventi: Valerio Sgarra primo in Crocevia
URL:https://ischia.discovercampania.it/eventi/evento/36830-bellissima-rasse
 gna-di-eventi-valerio-sgarra-primo-in-crocevia
END:VEVENT
END:VCALENDAR
