BEGIN:VCALENDAR
VERSION:2.0
PRODID:-//https://ischia.discovercampania.it///NONSGML kigkonsult.se iCalcreator 2.10.15//
METHOD:PUBLISH
BEGIN:VEVENT
UID:20260424T110255CEST-0743m56DRv@https://ischia.discovercampania.it/
DTSTAMP:20260424T090255Z
DESCRIPTION: “Streghe &amp\; gattopardi. A teatro con Luchino Visconti “Pro
 getto di Laboratorio Teatrale  https://ischia.discovercampania.it/eventi/e
 vento/36832-bellissima-rassegna-di-eventi-streghe-gattopardi
DTSTART:20250131T183000Z
DTEND:20250131T200000Z
LOCATION:La Colombaia (Via Francesco Calise\, 130\, 80075 Forio NA\, Italia
 )
SUMMARY:“BELLISSIMA” rassegna di eventi:  Streghe & gattopardi'
URL:https://ischia.discovercampania.it/eventi/evento/36832-bellissima-rasse
 gna-di-eventi-streghe-gattopardi
END:VEVENT
END:VCALENDAR
