BEGIN:VCALENDAR
VERSION:2.0
PRODID:-//https://ischia.discovercampania.it///NONSGML kigkonsult.se iCalcreator 2.10.15//
METHOD:PUBLISH
BEGIN:VEVENT
UID:20260426T035210CEST-0365Zdcpw8@https://ischia.discovercampania.it/
DTSTAMP:20260426T015210Z
DESCRIPTION:Valerio Sgarra primo in Crocevia: salotto di parole e musiche m
 igranti https://ischia.discovercampania.it/eventi/evento/36835-bellissima-
 rassegna-di-eventi-valerio-sgarra-primo-in-crocevia
DTSTART:20250208T180000Z
DTEND:20250208T200000Z
LOCATION:La Colombaia (Via Francesco Calise\, 130\, 80075 Forio NA\, Italia
 )
SUMMARY:“BELLISSIMA” rassegna di eventi: Valerio Sgarra primo in Crocevia
URL:https://ischia.discovercampania.it/eventi/evento/36835-bellissima-rasse
 gna-di-eventi-valerio-sgarra-primo-in-crocevia
END:VEVENT
END:VCALENDAR
