BEGIN:VCALENDAR
VERSION:2.0
PRODID:-//https://ischia.discovercampania.it///NONSGML kigkonsult.se iCalcreator 2.10.15//
METHOD:PUBLISH
BEGIN:VEVENT
UID:20260425T144051CEST-4802anblFZ@https://ischia.discovercampania.it/
DTSTAMP:20260425T124051Z
DESCRIPTION:“Streghe &amp\; gattopardi. A teatro con Luchino Visconti “Prog
 etto di Laboratorio Teatrale  https://ischia.discovercampania.it/eventi/ev
 ento/36840-bellissima-rassegna-di-eventi-streghe-gattopardi
DTSTART:20250314T183000Z
DTEND:20250314T200000Z
LOCATION:La Colombaia (Via Francesco Calise\, 130\, 80075 Forio NA\, Italia
 )
SUMMARY:'BELLISSIMA” rassegna di eventi: “Streghe & gattopardi'
URL:https://ischia.discovercampania.it/eventi/evento/36840-bellissima-rasse
 gna-di-eventi-streghe-gattopardi
END:VEVENT
END:VCALENDAR
