BEGIN:VCALENDAR
VERSION:2.0
PRODID:-//https://ischia.discovercampania.it///NONSGML kigkonsult.se iCalcreator 2.10.15//
METHOD:PUBLISH
BEGIN:VEVENT
UID:20260423T175709CEST-3602GM2eO7@https://ischia.discovercampania.it/
DTSTAMP:20260423T155709Z
DESCRIPTION:Polifunzionale S. Angelo ore 19.00 'Le voci di dentro' commedia
  di Eduardo De Filippo a cura di 'Teatro da Tre Soldi https://ischia.disco
 vercampania.it/eventi/evento/36888-mare-copp-mas-le-voci-di-dentro
DTSTART:20241226T180000Z
DTEND:20241226T200000Z
LOCATION:Centro Polifunzionale di Fontana (Piazza Arturo Trofa - Serrara)
SUMMARY:Mare Copp Mas: 'Le voci di dentro'
URL:https://ischia.discovercampania.it/eventi/evento/36888-mare-copp-mas-le
 -voci-di-dentro
END:VEVENT
END:VCALENDAR
