BEGIN:VCALENDAR
VERSION:2.0
PRODID:-//https://ischia.discovercampania.it///NONSGML kigkonsult.se iCalcreator 2.10.15//
METHOD:PUBLISH
BEGIN:VEVENT
UID:20260419T203700CEST-7593SBL4Vi@https://ischia.discovercampania.it/
DTSTAMP:20260419T183700Z
DESCRIPTION:Capodanno Napoletano Concerto a cura dell'orchestra 'La Ghirond
 a* https://ischia.discovercampania.it/eventi/evento/38250-lacco-ameno-in-c
 anti-di-natale-capodanno-napoletano
DTSTART:20250101T163000Z
DTEND:20250101T180000Z
LOCATION:Auditorium Leonardo Carriero (Via Onofrio Messer 47\, 80076\, Lacc
 o Ameno\, Napoli)
SUMMARY:Lacco Ameno In-canti di Natale: Capodanno Napoletano
URL:https://ischia.discovercampania.it/eventi/evento/38250-lacco-ameno-in-c
 anti-di-natale-capodanno-napoletano
END:VEVENT
END:VCALENDAR
